BEGIN:VCALENDAR
VERSION:2.0
PRODID:gruene-zews.de
METHOD:PUBLISH
BEGIN:VTIMEZONE
TZID:Europe/Berlin
X-LIC-LOCATION:Europe/Berlin
BEGIN:DAYLIGHT
TZOFFSETFROM:+0100
TZOFFSETTO:+0200
TZNAME:CEST
DTSTART:19700329T020000
RRULE:FREQ=YEARLY;INTERVAL=1;BYDAY=-1SU;BYMONTH=3
END:DAYLIGHT
BEGIN:STANDARD
TZOFFSETFROM:+0200
TZOFFSETTO:+0100
TZNAME:CET
DTSTART:19701025T030000
RRULE:FREQ=YEARLY;INTERVAL=1;BYDAY=-1SU;BYMONTH=10
END:STANDARD
END:VTIMEZONE
BEGIN:VEVENT
UID:6bc0111176f586d8ed8c398cfbd2ebcc@gruene-zews.de
URL;VALUE=URI:https://gruene-zews.de/termine/ausserplanmaessige-sitzung-d
 er-gemeindevertretung/
LOCATION:Sitzungssaal Rathaus Schulzendorf, Richard-Israel-Straße 1, Sch
 ulzendorf
SUMMARY:außerplanmäßige Sitzung der Gemeindevertretung
DESCRIPTION;ALTREP="data:text/html,%0A%3Cp%3EDie%20Gemeindevertretung%20t
 ritt%20auf%20Bestreben%20der%20CDU%2FFDP-Fraktion%20zu%20einer%20au%C3%9F
 erplanm%C3%A4%C3%9Figen%20Sitzung%20zusammen.%20Es%20wird%20vorrangig%20u
 m%20die%20neue%20interkommunale%20Grundschule%2C%20ein%20Projekt%20der%20
 Gemeinden%20Sch%C3%B6nefeld%20und%20Schulzendorf%2C%20das%20in%20Brandenb
 urg%20einzigartig%20ist%2C%20gehen.%20Weitere%20Informationen%20k%C3%B6nn
 t%20Ihr%20%3Ca%20href%3D%22https%3A%2F%2Fgruene-zews.de%2F2024%2F09%2F13%
 2Finterkommunale-grundschule-nimmt-wichtige-huerde-und-ist-gleichzeitig-b
 edroht%2F%22%3Ehier%3C%2Fa%3E%20finden.%3C%2Fp%3E%0A%0A%0A%0A%3Cp%3EDie%2
 0Sitzung%20ist%20%C3%B6ffentlich.%20Die%20Tagesordnung%20kann%20%3Ca%20hr
 ef%3D%22https%3A%2F%2Fratsinfo-online.de%2Fschulzendorf-ri%2F___tmp%2Ftmp
 %2F4517381-136%2F3phQT6bxSeiatdAIuRJGzVUoFGyV2Q5ZnXoV5jJx%2FNGyPfNdu%2F94
 810.pdf%22%3Ehier%3C%2Fa%3E%20abgerufen%20werden.%3C%2Fp%3E%0A":Die Gemei
 ndevertretung tritt auf Bestreben der CDU/FDP-Fraktion zu einer außerpla
 nmäßigen Sitzung zusammen. Es wird vorrangig um die neue interkommunale
  Grundschule\, ein Projekt der Gemeinden Schönefeld und Schulzendorf\, d
 as in Brandenburg einzigartig ist\, gehen. Weitere Informationen könnt I
 hr hier finden.\n\nDie Sitzung ist öffentlich. Die Tagesordnung kann hie
 r abgerufen werden.
CLASS:PUBLIC
DTSTART;TZID=Europe/Berlin:20240919T183000
DTEND;TZID=Europe/Berlin:20240919T220000
DTSTAMP:20260420T200537
END:VEVENT
END:VCALENDAR